BEGIN:VCALENDAR
VERSION:2.0
PRODID:-//ChamberMaster//Event Calendar 2.0//EN
METHOD:PUBLISH
X-PUBLISHED-TTL:P3D
REFRESH-INTERVAL:P3D
CALSCALE:GREGORIAN
BEGIN:VEVENT
DTSTART:20240220T173000Z
DTEND:20240220T190000Z
X-MICROSOFT-CDO-ALLDAYEVENT:FALSE
SUMMARY:2.20.2024 HBC Luncheon sponsored by First Financial Bank
DESCRIPTION:Join the Hispanic Business Council for their February luncheon!\n\n\n\nThis networking luncheon is a great opportunity for you to connect with other business owners and community leaders and receive more information on how to become more involved in the community. Bring a friend or two and see what all the excitement is about with the HBC.\n\n\n\nThis luncheon series is sponsored by our friends at First Financial Bank!
X-ALT-DESC;FMTTYPE=text/html:Join the Hispanic Business Council for their February luncheon!<br />\n<br />\n<span style="color: rgb(51\, 51\, 51)\; font-family: sans-serif\, Arial\, Verdana\, &quot\;Trebuchet MS&quot\;\; font-size: 13px\; background-color: rgb(255\, 255\, 255)\;">This networking luncheon is a great opportunity for you to connect with other business owners and community leaders and receive more information on how to become more involved in the community. Bring a friend or two and see what all the excitement is about with the HBC.</span><br style="color: rgb(51\, 51\, 51)\; font-family: sans-serif\, Arial\, Verdana\, &quot\;Trebuchet MS&quot\;\; font-size: 13px\;" />\n<br style="color: rgb(51\, 51\, 51)\; font-family: sans-serif\, Arial\, Verdana\, &quot\;Trebuchet MS&quot\;\; font-size: 13px\;" />\n<span style="color: rgb(51\, 51\, 51)\; font-family: sans-serif\, Arial\, Verdana\, &quot\;Trebuchet MS&quot\;\; font-size: 13px\; background-color: rgb(255\, 255\, 255)\;">This luncheon series is sponsored by our friends at <a href="https://ffin.com/">First Financial Bank</a>!&nbsp\;</span>
LOCATION:Taqueria Nuestro Mexico 4116 N 1st Street Abilene\, TX 79603
UID:e.3433.5188
SEQUENCE:3
DTSTAMP:20260421T144605Z
URL:https://business.growabilene.com/events/details/2-20-2024-hbc-luncheon-sponsored-by-first-financial-bank-5188
END:VEVENT

END:VCALENDAR
