BEGIN:VCALENDAR
VERSION:2.0
PRODID:-//ChamberMaster//Event Calendar 2.0//EN
METHOD:PUBLISH
X-PUBLISHED-TTL:P3D
REFRESH-INTERVAL:P3D
CALSCALE:GREGORIAN
BEGIN:VEVENT
DTSTART:20250628T160000Z
DTEND:20250628T210000Z
X-MICROSOFT-CDO-ALLDAYEVENT:FALSE
SUMMARY:1st Community Women's Health & Resource Fair
DESCRIPTION:2025 is the year to reclaim your health! Pink Cap Warriors invites YOU to their first Community Women's Health & Resource Fair!\n\n\n\nThis event will allow vendor spaces for community resources such as blood pressure checks\,  free breast exams on-site\, and even shop great foods and unique finds. This will be the first in what will become an annual event for women in our community.\n\n \n\nIn partnership with Lauren W. Bush's Institute for Women's Health\, we will be offering exams using the latest technology: BEXA. Pain-free\, radiation-free\, and results in just 15 minutes! No appointment necessary. \n\n \n\nLet's celebrate Hope and Healing through supporting our friends during a challenging and uncertain time.\n\n \n\nJoin us and be empowered to take control of your health!\n\n \n\n\n\nABOUT THE ORGANIZER:\n\nPink Cap Warriors on the Move is a non-profit organization focused on helping those facing breast cancer and assisting them with resources and support throughout their journey.
X-ALT-DESC;FMTTYPE=text/html:<span style="color:#ff66ff\;"><strong>2025 is the year to reclaim your health! </strong></span>Pink Cap Warriors invites YOU to their first Community Women&#39\;s Health &amp\; Resource Fair!<br />\n<br />\nThis event will allow vendor spaces for community resources such as blood pressure checks\,&nbsp\; free breast exams on-site\, and even shop great foods and unique finds. This will be the first in what will become an annual event for women in our community.<br />\n&nbsp\;<br />\nIn partnership with Lauren W. Bush&#39\;s Institute for Women&#39\;s Health\, we will be offering exams using the latest technology: BEXA. Pain-free\, radiation-free\, and results in just 15 minutes!&nbsp\;No appointment necessary.&nbsp\;<br />\n&nbsp\;<br />\nLet&rsquo\;s celebrate Hope and Healing through supporting our friends during a challenging and uncertain time.<br />\n&nbsp\;<br />\nJoin us and be empowered to take control of your health!<br />\n&nbsp\;<br />\n<br />\n<strong>ABOUT THE ORGANIZER:</strong><br />\nPink Cap Warriors on the Move is a non-profit organization focused on helping those facing breast cancer and assisting them with resources and support throughout their journey.
LOCATION:Elmwood West Methodist Church
UID:e.3433.5644
SEQUENCE:3
DTSTAMP:20260421T182431Z
URL:https://business.growabilene.com/events/details/1st-community-women-s-health-resource-fair-5644
END:VEVENT

END:VCALENDAR
