BEGIN:VCALENDAR
VERSION:2.0
PRODID:-//ChamberMaster//Event Calendar 2.0//EN
METHOD:PUBLISH
X-PUBLISHED-TTL:P3D
REFRESH-INTERVAL:P3D
CALSCALE:GREGORIAN
BEGIN:VEVENT
DTSTART:20211006T151500Z
DTEND:20211006T161500Z
X-MICROSOFT-CDO-ALLDAYEVENT:FALSE
SUMMARY:12th Armored Division Memorial Museum Ribbon Cutting
DESCRIPTION:Join us for a Ribbon Cutting Ceremony\, celebrating the 20 Year Anniversary of the 12th Armored Division Memorial Museum!
X-ALT-DESC;FMTTYPE=text/html:<span style="color: rgb(34\, 34\, 34)\; font-family: Montserrat\, Helvetica\, Arial\, sans-serif\; font-size: 16px\;">Join us for a Ribbon Cutting Ceremony\, celebrating the 20 Year Anniversary of the 12th Armored Division Memorial Museum!</span>
LOCATION:1289 North 2nd Street Abilene\, Texas 79601
UID:e.3433.4462
SEQUENCE:3
DTSTAMP:20260423T224128Z
URL:https://business.growabilene.com/events/details/12th-armored-division-memorial-museum-ribbon-cutting-4462
END:VEVENT

END:VCALENDAR
