BEGIN:VCALENDAR
VERSION:2.0
PRODID:-//ChamberMaster//Event Calendar 2.0//EN
METHOD:PUBLISH
X-PUBLISHED-TTL:P3D
REFRESH-INTERVAL:P3D
CALSCALE:GREGORIAN
BEGIN:VEVENT
DTSTART:20231206T140000Z
DTEND:20231206T150000Z
X-MICROSOFT-CDO-ALLDAYEVENT:FALSE
SUMMARY:12.06.23 The Morning Edge Sponsored by Texas State Technical College
DESCRIPTION:Please join us for our our new networking series\, The Morning Edge! Formerly known as Wake Up Wednesday\, this event series has been redesigned to allow connections over coffee and provide our members a relevant takeaway that supports business. This event is sponsored by our friends at TSTC - Abilene.\n\n\n\nThis monthly Chamber networking event is open to our sponsor's employees and guests\, Chamber members and prospective members. Please join us for our new networking series where there will be hot coffee\, breakfast\, Chamber updates\, and door prizes! \nPlease note: This event is being photographed and/or videotaped and your image may be used in connection with the advertising and promotion of the Abilene Chamber of Commerce.
X-ALT-DESC;FMTTYPE=text/html:<span style="font-size:14px\;"><span style="font-family:arial\;">Please join us for our our new networking series\, The Morning Edge! Formerly known as Wake Up Wednesday\, this event series has been redesigned to allow connections over coffee and provide our members a relevant takeaway that supports business. This event is sponsored by our friends at TSTC - Abilene.<br />\n<br />\nThis monthly Chamber networking event is open to our sponsor&#39\;s employees and guests\, Chamber members and prospective members. Please join us for our new networking series where there will be hot coffee\, breakfast\, Chamber updates\, and door prizes!&nbsp\;</span></span>\n<p class="xxxmsonormal" style="background-image: initial\; background-position: initial\; background-size: initial\; background-repeat: initial\; background-attachment: initial\; background-origin: initial\; background-clip: initial\;"><span style="font-size:8px\;"><span style="font-family:arial\;">Please note: This event is being photographed and/or videotaped and your image may be used in connection with the advertising and promotion of the Abilene Chamber of Commerce.</span></span></p>\n
LOCATION:TSTC 2082 Quantum Loop Abilene\, TX 79602
UID:e.3433.5124
SEQUENCE:3
DTSTAMP:20260421T181153Z
URL:https://business.growabilene.com/events/details/12-06-23-the-morning-edge-sponsored-by-texas-state-technical-college-5124
END:VEVENT

END:VCALENDAR
