BEGIN:VCALENDAR
VERSION:2.0
PRODID:-//ChamberMaster//Event Calendar 2.0//EN
METHOD:PUBLISH
X-PUBLISHED-TTL:P3D
REFRESH-INTERVAL:P3D
CALSCALE:GREGORIAN
BEGIN:VEVENT
DTSTART:20231128T210000Z
DTEND:20231128T220000Z
X-MICROSOFT-CDO-ALLDAYEVENT:FALSE
SUMMARY:11.28.23 Chamber in 60
DESCRIPTION:The Chamber in 60 is a one-hour session about the Chamber's mission\, member benefits\, networking events\, committees\, sponsorships and how to maximize the benefits of your Chamber investment. Meet the staff and Executive Board Members and find out how we serve your business. New members are encouraged to attend. Seating is limited\, reservations required.
X-ALT-DESC;FMTTYPE=text/html:The Chamber in 60 is a one-hour session about the Chamber&#39\;s mission\, member benefits\, networking events\, committees\, sponsorships and how to maximize the benefits of your Chamber investment. Meet the staff and Executive Board Members and find out how we serve your business. New members are encouraged to attend. Seating is limited\, reservations required.&nbsp\;
LOCATION:First Financial Bank 400 Pine Street\, Third Floor Boardroom Abilene\, Texas 79601
UID:e.3433.5041
SEQUENCE:3
DTSTAMP:20260421T194347Z
URL:https://business.growabilene.com/events/details/11-28-23-chamber-in-60-5041
END:VEVENT

END:VCALENDAR
