BEGIN:VCALENDAR
VERSION:2.0
PRODID:-//ChamberMaster//Event Calendar 2.0//EN
METHOD:PUBLISH
X-PUBLISHED-TTL:P3D
REFRESH-INTERVAL:P3D
CALSCALE:GREGORIAN
BEGIN:VEVENT
DTSTART:20211103T130000Z
DTEND:20211103T140000Z
X-MICROSOFT-CDO-ALLDAYEVENT:FALSE
SUMMARY:11.03.21 WakeUp Wednesday sponsored by Arrow Ford (Mission Thanksgiving)
DESCRIPTION:Monthly morning social business networking event. Open to sponsor employees and guests\, Chamber members and prospective members. Features a short sponsor presentation\, food/beverages\, update on Chamber activities and door prizes.\n\n\n\nWe'll continue to closely monitor COVID-19 and work closely with our sponsors\, local government and venues to ensure we're taking the best possible precautions so that you feel the most comfortable as an attendee. Here are a few of the measures our team will put into action:\n\n \n\n- We're limiting the entrance of events to just one area so proper temperature checks and hand sanitation can take place before anyone enters the building.\n\n- To protect your health and the health of others\, masks will be required and will be on-hand for those who do not have one. We know that not all will feel comfortable in a mask all day\, but in order to get back to some sort of "normalcy" it's a step we feel that we need to take to help ensure you remain healthy.\n\n- Thanks to our friends at ChemStation\, we'll have multiple hand sanitizing stations throughout the facility.\n\n- Unsure if the person you're wanting to visit with is physically distancing? We'll have colored bracelets on-hand to help you communicate to those around you which measures you are practicing. A red will mean no contact\, yellow elbows only while still being cautious\, blue hi-five and handshakes with frequent sanitizing.\n\n- We're boosting up our signage to help remind everyone in attendance of proper public health guidelines.\n\n\n\nProtecting the health and safety of everyone at our events is a shared responsibility and we know you as our valued partner stand ready to do your part.
X-ALT-DESC;FMTTYPE=text/html:<span style="color: rgb(51\, 51\, 51)\; font-family: sans-serif\, Arial\, Verdana\, &quot\;Trebuchet MS&quot\;\; font-size: 13px\; background-color: rgb(255\, 255\, 255)\;">Monthly morning social business networking event. Open to sponsor employees and guests\, Chamber members and prospective members. Features a short sponsor presentation\, food/beverages\, update on Chamber activities and door prizes.</span><br style="color: rgb(51\, 51\, 51)\; font-family: sans-serif\, Arial\, Verdana\, &quot\;Trebuchet MS&quot\;\; font-size: 13px\;" />\n<br style="color: rgb(51\, 51\, 51)\; font-family: sans-serif\, Arial\, Verdana\, &quot\;Trebuchet MS&quot\;\; font-size: 13px\;" />\n<span style="font-family: sans-serif\, Arial\, Verdana\, &quot\;Trebuchet MS&quot\;\; font-size: 13px\; color: rgb(28\, 30\, 33)\;"><span style="font-size: 12pt\;">We&rsquo\;ll continue to closely monitor COVID-19 and work closely with our sponsors\, local government and venues to ensure we&rsquo\;re taking the best possible precautions so that you feel the most comfortable as an attendee. Here are a few of the measures our team will put into action:</span></span><br style="color: rgb(51\, 51\, 51)\; font-family: sans-serif\, Arial\, Verdana\, &quot\;Trebuchet MS&quot\;\; font-size: 13px\;" />\n<span style="color: rgb(51\, 51\, 51)\; font-family: sans-serif\, Arial\, Verdana\, &quot\;Trebuchet MS&quot\;\; font-size: 13px\; background-color: rgb(255\, 255\, 255)\;">&nbsp\;</span><br style="color: rgb(51\, 51\, 51)\; font-family: sans-serif\, Arial\, Verdana\, &quot\;Trebuchet MS&quot\;\; font-size: 13px\;" />\n<span style="font-family: sans-serif\, Arial\, Verdana\, &quot\;Trebuchet MS&quot\;\; font-size: 13px\; color: rgb(28\, 30\, 33)\;"><span style="font-size: 12pt\;">- We&rsquo\;re limiting the entrance of events to just one area so proper temperature checks and hand sanitation can take place before anyone enters the building.</span></span><br style="color: rgb(51\, 51\, 51)\; font-family: sans-serif\, Arial\, Verdana\, &quot\;Trebuchet MS&quot\;\; font-size: 13px\;" />\n<span style="font-family: sans-serif\, Arial\, Verdana\, &quot\;Trebuchet MS&quot\;\; font-size: 13px\; color: rgb(28\, 30\, 33)\;"><span style="font-size: 12pt\;">- To protect your health and the health of others\, masks will be required and will be on-hand for those who do not have one. We know that not all will feel comfortable in a mask all day\, but in order to get back to some sort of &ldquo\;normalcy&rdquo\; it&rsquo\;s a step we feel that we need to take to help ensure you remain healthy.</span></span><br style="color: rgb(51\, 51\, 51)\; font-family: sans-serif\, Arial\, Verdana\, &quot\;Trebuchet MS&quot\;\; font-size: 13px\;" />\n<span style="font-family: sans-serif\, Arial\, Verdana\, &quot\;Trebuchet MS&quot\;\; font-size: 13px\; color: rgb(28\, 30\, 33)\;"><span style="font-size: 12pt\;">- Thanks to our friends at ChemStation\, we&rsquo\;ll have multiple hand sanitizing stations throughout the facility.</span></span><br style="color: rgb(51\, 51\, 51)\; font-family: sans-serif\, Arial\, Verdana\, &quot\;Trebuchet MS&quot\;\; font-size: 13px\;" />\n<span style="font-family: sans-serif\, Arial\, Verdana\, &quot\;Trebuchet MS&quot\;\; font-size: 13px\; color: rgb(28\, 30\, 33)\;"><span style="font-size: 12pt\;">- Unsure if the person you&rsquo\;re wanting to visit with is physically distancing? We&rsquo\;ll have colored bracelets on-hand to help you communicate to those around you which measures you are practicing. A red will mean no contact\, yellow elbows only while still being cautious\, blue hi-five and handshakes with frequent sanitizing.</span></span><br style="color: rgb(51\, 51\, 51)\; font-family: sans-serif\, Arial\, Verdana\, &quot\;Trebuchet MS&quot\;\; font-size: 13px\;" />\n<span style="font-family: sans-serif\, Arial\, Verdana\, &quot\;Trebuchet MS&quot\;\; font-size: 13px\; color: rgb(28\, 30\, 33)\;"><span style="font-size: 12pt\;">- We&rsquo\;re boosting up our signage to help remind everyone in attendance of proper public health guidelines.</span></span><br style="color: rgb(51\, 51\, 51)\; font-family: sans-serif\, Arial\, Verdana\, &quot\;Trebuchet MS&quot\;\; font-size: 13px\;" />\n<br style="color: rgb(51\, 51\, 51)\; font-family: sans-serif\, Arial\, Verdana\, &quot\;Trebuchet MS&quot\;\; font-size: 13px\;" />\n<span style="font-family: sans-serif\, Arial\, Verdana\, &quot\;Trebuchet MS&quot\;\; font-size: 13px\; color: rgb(28\, 30\, 33)\;"><span style="font-size: 12pt\;">Protecting the health and safety of everyone at our events is a shared responsibility and we know you as our valued partner stand ready to do your part.</span></span>
LOCATION:Abilene Woman's Club 3425 S. 14th Street Abilene\, Texas 79605
UID:e.3433.4487
SEQUENCE:3
DTSTAMP:20260423T205050Z
URL:https://business.growabilene.com/events/details/11-03-21-wakeup-wednesday-sponsored-by-arrow-ford-mission-thanksgiving-4487
END:VEVENT

END:VCALENDAR
