BEGIN:VCALENDAR
VERSION:2.0
PRODID:-//ChamberMaster//Event Calendar 2.0//EN
METHOD:PUBLISH
X-PUBLISHED-TTL:P3D
REFRESH-INTERVAL:P3D
CALSCALE:GREGORIAN
BEGIN:VEVENT
DTSTART:20231101T130000Z
DTEND:20231101T140000Z
X-MICROSOFT-CDO-ALLDAYEVENT:FALSE
SUMMARY:11.01.23 The Morning Edge Sponsored by Jacob & Martin\, LLC and Condley & Company\, LLP
DESCRIPTION:Please join us for our our new networking series\, The Morning Edge! Formerly known as Wake Up Wednesday\, this event series has been redesigned to allow connections over coffee and provide our members a relevant takeaway that supports business. This event is sponsored by our friends at Jacob & Martin\, LLC and Condley & Company\, LLP.\n\n\n\nFor this month's "edge"\, we will learn more about the streetscape plan for downtown Abilene. You will also get to see Condley & Company\, LLP's renovations of the Grant Building\, which is a winner of Texas Downtown's 2023 Best Commercial Interior Award\, and a finalist for Texas Downtown's Best Rehab / Restoration Award. This will surely be a networking event you will NOT want to miss! \n\n\n\nThis monthly Chamber networking event is open to our sponsor's employees and guests\, Chamber members and prospective members. Please join us for our new networking series where there will be hot coffee\, breakfast\, Chamber updates\, and door prizes! \nPlease note: This event is being photographed and/or videotaped and your image may be used in connection with the advertising and promotion of the Abilene Chamber of Commerce.
X-ALT-DESC;FMTTYPE=text/html:<span style="font-size:14px\;"><span style="font-family:arial\;">Please join us for our our new networking series\, The Morning Edge! Formerly known as Wake Up Wednesday\, this event series has been redesigned to allow connections over coffee and provide our members a relevant takeaway that supports business. This event is sponsored by our friends at Jacob &amp\; Martin\, LLC and Condley &amp\; Company\, LLP.</span></span><br />\n<br />\n<span style="font-family: arial\; font-size: 14px\; background-image: initial\; background-position: initial\; background-size: initial\; background-repeat: initial\; background-attachment: initial\; background-origin: initial\; background-clip: initial\;"><span style="color: rgb(29\, 33\, 41)\;">For this month&#39\;s &quot\;edge&quot\;\, we will learn more about the&nbsp\;</span><strong><a href="https://www.bigcountryhomepage.com/news/abilene-news/gallery-preliminary-designs-released-for-cypress-street-project-in-downtown-abilene/" target="_blank"><span style="color: rgb(255\, 0\, 0)\;">streetscape plan</span></a><font color="#ff0000">&nbsp\;</font></strong><span style="color:#000000\;">for downtown Abilene</span></span><span style="font-family: arial\; font-size: 14px\;"><span style="color:#000000\;">.</span>&nbsp\;You will also get to see Condley &amp\; Company\, LLP&#39\;s renovations of the&nbsp\;</span><span style="font-family: arial\; font-size: 14px\; background-image: initial\; background-position: initial\; background-size: initial\; background-repeat: initial\; background-attachment: initial\; background-origin: initial\; background-clip: initial\;"><span style="color: rgb(29\, 33\, 41)\;">Grant Building\, which is a winner of Texas Downtown&#39\;s 2023 Best Commercial Interior Award\,&nbsp\;and a finalist for Texas Downtown&#39\;s Best Rehab / Restoration Award. This will surely be a networking event you will NOT want to miss!&nbsp\;</span></span><br style="font-family: arial\; font-size: 14px\;" />\n<br />\n<span style="font-size:14px\;"><span style="font-family:arial\;">This monthly Chamber networking event is open to our sponsor&#39\;s employees and guests\, Chamber members and prospective members. Please join us for our new networking series where there will be hot coffee\, breakfast\, Chamber updates\, and door prizes!&nbsp\;</span></span>\n<p class="xxxmsonormal" style="background-image: initial\; background-position: initial\; background-size: initial\; background-repeat: initial\; background-attachment: initial\; background-origin: initial\; background-clip: initial\;"><span style="font-size:8px\;"><span style="font-family:arial\;">Please note: This event is being photographed and/or videotaped and your image may be used in connection with the advertising and promotion of the Abilene Chamber of Commerce.</span></span></p>\n
LOCATION:Condley & Company\, LLP 302 Pine Street Abilene\, TX 79601
UID:e.3433.5123
SEQUENCE:3
DTSTAMP:20260421T213847Z
URL:https://business.growabilene.com/events/details/11-01-23-the-morning-edge-sponsored-by-jacob-martin-llc-and-condley-company-llp-5123
END:VEVENT

END:VCALENDAR
