BEGIN:VCALENDAR
VERSION:2.0
PRODID:-//ChamberMaster//Event Calendar 2.0//EN
METHOD:PUBLISH
X-PUBLISHED-TTL:P3D
REFRESH-INTERVAL:P3D
CALSCALE:GREGORIAN
BEGIN:VEVENT
DTSTART:20240410T160000Z
DTEND:20240410T170000Z
X-MICROSOFT-CDO-ALLDAYEVENT:FALSE
SUMMARY:10 Year Anniversary - Big Country CASA
DESCRIPTION:Come to Big Country CASA and congratulate them on their 10th Anniversary!
X-ALT-DESC;FMTTYPE=text/html:Come to Big Country CASA and congratulate them on their 10th Anniversary!
LOCATION:400 Oak Street\, Ste. 218 Abilene\, TX 79601
UID:e.3433.5282
SEQUENCE:3
DTSTAMP:20260421T103312Z
URL:https://business.growabilene.com/events/details/10-year-anniversary-big-country-casa-5282
END:VEVENT

END:VCALENDAR
