BEGIN:VCALENDAR
VERSION:2.0
PRODID:-//ChamberMaster//Event Calendar 2.0//EN
METHOD:PUBLISH
X-PUBLISHED-TTL:P3D
REFRESH-INTERVAL:P3D
CALSCALE:GREGORIAN
BEGIN:VEVENT
DTSTART:20230117T173000Z
DTEND:20230117T190000Z
X-MICROSOFT-CDO-ALLDAYEVENT:FALSE
SUMMARY:1.17.23 HBC Luncheon sponsored by Happy State Bank
DESCRIPTION:Join the Hispanic Business Council for their January luncheon!\n\n\n\nThis networking luncheon is a great opportunity for you to connect with other business owners and community leaders and receive more information on how to become more involved in the community. Bring a friend or two and see what all the excitement is about with the HBC.\n\n\n\nThis luncheon series is sponsored by our friends at Happy State Bank!
X-ALT-DESC;FMTTYPE=text/html:Join the Hispanic Business Council for their January luncheon!<br />\n<br />\nThis networking luncheon is a great opportunity for you to connect with other business owners and community leaders and receive more information on how to become more involved in the community. Bring a friend or two and see what all the excitement is about with the HBC.<br />\n<br />\nThis luncheon series is sponsored by our friends at Happy State Bank!&nbsp\;
LOCATION:Potter's Pizza 3802 Buffalo Gap Rd. Abilene\, TX 79605
UID:e.3433.4865
SEQUENCE:3
DTSTAMP:20260422T193938Z
URL:https://business.growabilene.com/events/details/1-17-23-hbc-luncheon-sponsored-by-happy-state-bank-4865
END:VEVENT

END:VCALENDAR
