BEGIN:VCALENDAR
VERSION:2.0
PRODID:-//ChamberMaster//Event Calendar 2.0//EN
METHOD:PUBLISH
X-PUBLISHED-TTL:P3D
REFRESH-INTERVAL:P3D
CALSCALE:GREGORIAN
BEGIN:VEVENT
DTSTART:20240116T173000Z
DTEND:20240116T190000Z
X-MICROSOFT-CDO-ALLDAYEVENT:FALSE
SUMMARY:1.16.2024 HBC Luncheon sponsored by First Financial Bank
DESCRIPTION:Join the Hispanic Business Council for their January luncheon! Darrin Black with Pennye Lane Properties will be the guest speaker.\n\n\n\nThis networking luncheon is a great opportunity for you to connect with other business owners and community leaders and receive more information on how to become more involved in the community. Bring a friend or two and see what all the excitement is about with the HBC.
X-ALT-DESC;FMTTYPE=text/html:Join the Hispanic Business Council for their January luncheon! Darrin Black with Pennye Lane Properties will be the guest speaker.<br />\n<br />\nThis networking luncheon is a great opportunity for you to connect with other business owners and community leaders and receive more information on how to become more involved in the community. Bring a friend or two and see what all the excitement is about with the HBC.<br />\n&nbsp\;
LOCATION:Potosi Live 897 FM 1750 Abilene\, TX 79602
UID:e.3433.5183
SEQUENCE:3
DTSTAMP:20260421T164016Z
URL:https://business.growabilene.com/events/details/1-16-2024-hbc-luncheon-sponsored-by-first-financial-bank-5183
END:VEVENT

END:VCALENDAR
