BEGIN:VCALENDAR
VERSION:2.0
PRODID:-//ChamberMaster//Event Calendar 2.0//EN
METHOD:PUBLISH
X-PUBLISHED-TTL:P3D
REFRESH-INTERVAL:P3D
CALSCALE:GREGORIAN
BEGIN:VEVENT
DTSTART:20240909T163000Z
DTEND:20240909T180000Z
X-MICROSOFT-CDO-ALLDAYEVENT:FALSE
SUMMARY:09.09.2024 ABIChat Luncheon Sponsored by Arrow Ford
DESCRIPTION:Join AYP for ABICHAT! A luncheon series that occurs once a quarter for Abilene Young Professionals. Tickets available to 60 young professionals and are first come\, first served and are nonrefundable.
X-ALT-DESC;FMTTYPE=text/html:<span style="color: rgb(29\, 33\, 41)\; font-size: 14px\;">Join AYP for ABICHAT! A luncheon series that occurs once a quarter for Abilene Young Professionals. Tickets available to 60 young professionals and are first come\, first served and are nonrefundable.</span>
LOCATION:Community Foundation of Abilene 850 N 1st St Abilene\, TX 79601
UID:e.3433.5370
SEQUENCE:3
DTSTAMP:20260421T104123Z
URL:https://business.growabilene.com/events/details/09-09-2024-abichat-luncheon-sponsored-by-arrow-ford-5370
END:VEVENT

END:VCALENDAR
