BEGIN:VCALENDAR
VERSION:2.0
PRODID:-//ChamberMaster//Event Calendar 2.0//EN
METHOD:PUBLISH
X-PUBLISHED-TTL:P3D
REFRESH-INTERVAL:P3D
CALSCALE:GREGORIAN
BEGIN:VEVENT
DTSTART:20220908T223000Z
DTEND:20220909T000000Z
X-MICROSOFT-CDO-ALLDAYEVENT:FALSE
SUMMARY:09.08.22 AYP After Five sponsored by Directors Investment Group
DESCRIPTION:Looking to make connections in the 21-40 year old demographic with like-minded individuals? Join us for the next AYP After Five sponsored by Directors Investment Group.\n\n\n\nThis is a casual come and go as you please event geared toward the 21-40 year old demographic in the Abilene area. Drinks\, light hors d'oeuvres\, and networking take place.\n\n\n\nFree for members\, free for first timers\, $10 for prospective members.\n\n\n\nPlease note: This event is being photographed and/or videotaped and your image may be used in connection with the advertising and promotion of the Abilene Chamber of Commerce. The Chamber encourages those in attendance at future Chamber events and functions to implement or practice any measures that make the individual feel the most comfortable in today's environment.
X-ALT-DESC;FMTTYPE=text/html:<div data-block="true" data-editor="idcs" data-offset-key="7ea6n-0-0" style="font-family: Helvetica\, Arial\, sans-serif\; color: rgb(28\, 30\, 33)\; font-size: 12px\; white-space: pre-wrap\; background-color: rgb(255\, 255\, 255)\;">\n<div class="_1mf _1mj" data-offset-key="7ea6n-0-0" style="position: relative\; direction: ltr\; font-family: inherit\;">\n<div>\n<div style="box-sizing: border-box\; outline: 0px\; color: rgb(28\, 30\, 33)\; font-family: Helvetica\, Arial\, sans-serif\; font-size: 12px\; white-space: pre-wrap\;"><span style="box-sizing: border-box\; font-size: 14px\;">Looking to make connections in the 21-40 year old demographic with like-minded individuals? Join us for the next AYP After Five sponsored by Directors Investment Group.<br style="box-sizing: border-box\;" />\n<br style="box-sizing: border-box\;" />\nThis is a casual come and go as you please event geared toward the 21-40 year old demographic in the Abilene area. Drinks\, light hors d&#39\;oeuvres\, and networking take place.<br style="box-sizing: border-box\;" />\n<br style="box-sizing: border-box\;" />\nFree for members\, free for first timers\, $10 for prospective members.</span></div>\n\n<div style="box-sizing: border-box\; color: rgb(28\, 30\, 33)\; font-family: Helvetica\, Arial\, sans-serif\; font-size: 12px\; white-space: pre-wrap\;"><br style="box-sizing: border-box\;" />\n<span style="box-sizing: border-box\; color: rgb(0\, 0\, 0)\;"><span style="box-sizing: border-box\; font-family: arial\;"><span style="box-sizing: border-box\; outline: 0px\;"><span style="box-sizing: border-box\; outline: 0px\; font-size: 9.33333px\;"><span style="box-sizing: border-box\; font-weight: bolder\;">Please note: This event is being photographed and/or videotaped and your image may be used in connection with the advertising and promotion of the Abilene Chamber of Commerce.</span> </span></span></span><span style="box-sizing: border-box\; font-size: 10px\;"><span style="box-sizing: border-box\; font-family: helvetica\, arial\, sans-serif\; font-weight: bolder\; text-align: center\;">The Chamber encourages those in attendance at future Chamber events and functions to implement or practice any measures that make the individual feel the most comfortable in today&#39\;s environment.</span></span></span></div>\n\n<div>&nbsp\;</div>\n</div>\n</div>\n</div>\n
LOCATION:6550 Directors Pkwy\, Abilene\, TX 79606
UID:e.3433.4783
SEQUENCE:3
DTSTAMP:20260423T030351Z
URL:https://business.growabilene.com/events/details/09-08-22-ayp-after-five-sponsored-by-directors-investment-group-4783
END:VEVENT

END:VCALENDAR
