BEGIN:VCALENDAR
VERSION:2.0
PRODID:-//ChamberMaster//Event Calendar 2.0//EN
METHOD:PUBLISH
X-PUBLISHED-TTL:P3D
REFRESH-INTERVAL:P3D
CALSCALE:GREGORIAN
BEGIN:VEVENT
DTSTART:20220907T130000Z
DTEND:20220907T140000Z
X-MICROSOFT-CDO-ALLDAYEVENT:FALSE
SUMMARY:09.07.22 Wake Up Wednesday Sponsored by TaMolly's of Abilene
DESCRIPTION:Please join us for our a captivating Wake Up Wednesday! This monthly Chamber networking event is open to our sponsor's employees and guests\, Chamber members and prospective members. This event features a short sponsor presentation\, food/beverages\, update on Chamber activities and door prizes.\nPlease note: This event is being photographed and/or videotaped and your image may be used in connection with the advertising and promotion of the Abilene Chamber of Commerce.
X-ALT-DESC;FMTTYPE=text/html:<span style="color: rgb(34\, 34\, 34)\; font-family: Montserrat\, Helvetica\, Arial\, sans-serif\; font-size: 16px\;">Please join us for our a captivating Wake Up Wednesday! This monthly Chamber networking event is open to our sponsor&#39\;s employees and guests\, Chamber members and prospective members. This event features a short sponsor presentation\, food/beverages\, update on Chamber activities and door prizes.</span>\n<p class="xxxmsonormal" style="background-image: initial\; background-position: initial\; background-size: initial\; background-repeat: initial\; background-attachment: initial\; background-origin: initial\; background-clip: initial\;"><span style="font-family: arial\, sans-serif\; font-size: 9.33333px\;">Please note: This event is being photographed and/or videotaped and your image may be used in connection with the advertising and promotion of the Abilene Chamber of Commerce.</span></p>\n
LOCATION:Abilene Woman's Club 3425 S 14th Street\, Abilene\, TX 79605
UID:e.3433.4760
SEQUENCE:3
DTSTAMP:20260423T030521Z
URL:https://business.growabilene.com/events/details/09-07-22-wake-up-wednesday-sponsored-by-tamolly-s-of-abilene-4760
END:VEVENT

END:VCALENDAR
