BEGIN:VCALENDAR
VERSION:2.0
PRODID:-//ChamberMaster//Event Calendar 2.0//EN
METHOD:PUBLISH
X-PUBLISHED-TTL:P3D
REFRESH-INTERVAL:P3D
CALSCALE:GREGORIAN
BEGIN:VEVENT
DTSTART:20200902T130000Z
DTEND:20200902T140000Z
X-MICROSOFT-CDO-ALLDAYEVENT:FALSE
SUMMARY:09.02.20 Wake Up Wednesday - Sponsored by Big Country Society of Human Resources
DESCRIPTION:Monthly morning social business networking event. Open to sponsor\, employees and guests\, Chamber members and prospective members. Features a short sponsor presentation\, food/beverages\, update on Chamber activities and door prizes.\n\n\n\nPlease note: This event is being photographed and/or videotaped and your image may be used in connection with the advertising and promotion of the Abilene Chamber of Commerce.
X-ALT-DESC;FMTTYPE=text/html:<span style="color: rgb(51\, 51\, 51)\; font-family: sans-serif\, Arial\, Verdana\, &quot\;Trebuchet MS&quot\;\; font-size: 13px\; background-color: rgb(255\, 255\, 255)\;">Monthly morning social business networking event. Open to sponsor\, employees and guests\, Chamber members and prospective members. Features a short sponsor presentation\, food/beverages\, update on Chamber activities and door prizes.</span><br />\n<br />\n<span style="color: rgb(51\, 51\, 51)\; font-family: sans-serif\, Arial\, Verdana\, &quot\;Trebuchet MS&quot\;\; font-size: 12px\; background-color: rgb(255\, 255\, 255)\;">Please note: This event is being photographed and/or videotaped and your image may be used in connection with the advertising and promotion of the Abilene Chamber of Commerce.</span>
LOCATION:Abilene Woman's Club 3425 S. 14th Street Abilene\, Texas 79605
UID:e.3433.3901
SEQUENCE:3
DTSTAMP:20260423T121253Z
URL:https://business.growabilene.com/events/details/09-02-20-wake-up-wednesday-sponsored-by-big-country-society-of-human-resources-3901
END:VEVENT

END:VCALENDAR
