BEGIN:VCALENDAR
VERSION:2.0
PRODID:-//ChamberMaster//Event Calendar 2.0//EN
METHOD:PUBLISH
X-PUBLISHED-TTL:P3D
REFRESH-INTERVAL:P3D
CALSCALE:GREGORIAN
BEGIN:VEVENT
DTSTART:20220723T150000Z
DTEND:20220723T170000Z
X-MICROSOFT-CDO-ALLDAYEVENT:FALSE
SUMMARY:07.23.2022 Children's Business Fair Presented by Abilene Teacher's Federal Credit Union
DESCRIPTION:This event is FREE and OPEN TO THE PUBLIC.\n\n\n\nKids create a product or service\, develop a brand\, build a marketing strategy\, and then open for customers at this one-day marketplace. The children are responsible for the setup\, sales\, and interacting with customers!\n\n\n\nPrizes will be awarded for best product or service potential\, quality\, presentation\, and customer service! \n\n\n\nVISIT THE FOLLOWING LINK TO APPLY: https://www.childrensbusinessfair.org/abilene-texas
X-ALT-DESC;FMTTYPE=text/html:<span style="color:black\;"><span style="font-size:11.0pt\;">This event is FREE and OPEN TO THE PUBLIC.</span></span><br />\n<br />\n<span style="font-size:11pt\;">Kids create a product or service\, develop a brand\, build a marketing strategy\, and then open for customers at this one-day marketplace. The children are responsible for the setup\, sales\, and interacting with customers!</span><br />\n<br />\n<span style="color:black\;"><span style="font-size:11.0pt\;">Prizes will be awarded for best product or service potential\, quality\, presentation\, and customer service!&nbsp\;</span></span><br />\n<br />\nVISIT THE FOLLOWING LINK TO APPLY:&nbsp\;https://www.childrensbusinessfair.org/abilene-texas
LOCATION:Frontier Texas! 625 N. 1st St. Abilene\, TX 79601
UID:e.3433.4680
SEQUENCE:3
DTSTAMP:20260423T060518Z
URL:https://business.growabilene.com/events/details/07-23-2022-children-s-business-fair-presented-by-abilene-teacher-s-federal-credit-union-4680
END:VEVENT

END:VCALENDAR
