BEGIN:VCALENDAR
VERSION:2.0
PRODID:-//ChamberMaster//Event Calendar 2.0//EN
METHOD:PUBLISH
X-PUBLISHED-TTL:P3D
REFRESH-INTERVAL:P3D
CALSCALE:GREGORIAN
BEGIN:VEVENT
DTSTART:20230714T163000Z
DTEND:20230714T180000Z
X-MICROSOFT-CDO-ALLDAYEVENT:FALSE
SUMMARY:07.14.2023 MAC Quarterly Luncheon
DESCRIPTION:ABOUT OUR SPEAKER\n\n\n\nGeneral Glen VanHerck is Commander\, United States Northern Command and North American Aerospace Defense Command.  USNORTHCOM conducts homeland defense\, civil support and security cooperation to defend and secure the United States and its interests.  NORAD conducts aerospace warning\, aerospace control and maritime warning in the defense of North America.
X-ALT-DESC;FMTTYPE=text/html:ABOUT OUR SPEAKER<br />\n<br />\nGeneral Glen VanHerck is Commander\, United States Northern Command and North American Aerospace Defense Command.&nbsp\; USNORTHCOM conducts homeland defense\, civil support and security cooperation to defend and secure the United States and its interests.&nbsp\; NORAD conducts aerospace warning\, aerospace control and maritime warning in the defense of North America.&nbsp\;&nbsp\;
LOCATION:Abilene Country Club\, 4039 S Treadaway\, Abilene\, Texas Second Floor Ballroom
UID:e.3433.4996
SEQUENCE:3
DTSTAMP:20260422T102607Z
URL:https://business.growabilene.com/events/details/07-14-2023-mac-quarterly-luncheon-4996
END:VEVENT

END:VCALENDAR
