BEGIN:VCALENDAR
VERSION:2.0
PRODID:-//ChamberMaster//Event Calendar 2.0//EN
METHOD:PUBLISH
X-PUBLISHED-TTL:P3D
REFRESH-INTERVAL:P3D
CALSCALE:GREGORIAN
BEGIN:VEVENT
DTSTART:20190620T220000Z
DTEND:20190620T233000Z
X-MICROSOFT-CDO-ALLDAYEVENT:FALSE
SUMMARY:06.20.19 Business After Hours Sponsored by SilverSpring
DESCRIPTION:Monthly evening social business networking event. Open to sponsor employees and guests\, Chamber members and prospective members. Features a short sponsor presentation\, food/beverages\, update on Chamber activities and door prizes.
X-ALT-DESC;FMTTYPE=text/html:Monthly evening social business networking event. Open to sponsor employees and guests\, Chamber members and prospective members. Features a short sponsor presentation\, food/beverages\, update on Chamber activities and door prizes.
LOCATION:1690 N. Treadaway Blvd. Abilene\, Texas 79601
UID:e.3433.3673
SEQUENCE:3
DTSTAMP:20260426T024553Z
URL:https://business.growabilene.com/events/details/06-20-19-business-after-hours-sponsored-by-silverspring-3673
END:VEVENT

END:VCALENDAR
