BEGIN:VCALENDAR
VERSION:2.0
PRODID:-//ChamberMaster//Event Calendar 2.0//EN
METHOD:PUBLISH
X-PUBLISHED-TTL:P3D
REFRESH-INTERVAL:P3D
CALSCALE:GREGORIAN
BEGIN:VEVENT
DTSTART:20250604T130000Z
DTEND:20250604T140000Z
X-MICROSOFT-CDO-ALLDAYEVENT:FALSE
SUMMARY:06.04.25 The Morning Edge sponsored by Home2Suite by Hilton and Towneplace Suites by Marriott Abilene Southwest
DESCRIPTION:Please join us for our networking series\, The Morning Edge! This event series encourages connections over coffee and provide our members with a relevant takeaway that supports business. Thank you to our sponsor and hosts\, Home2Suites by Hilton and Towneplace Suites by Marriott Abilene Southwest!\n\n\n\nNew to networking? We will have a brief exercise\, lead by our member Kim Austin with State Farm Insurance\, to share tips how to work a room and start a conversation with a stranger. \n\n\n\nSee y'all soon! \n\n\n\n\n\n\n\nPlease note: This event is being photographed and/or videotaped and your image may be used in connection with the advertising and promotion of the Abilene Chamber of Commerce.
X-ALT-DESC;FMTTYPE=text/html:<span style="font-size:14px\;"><span style="font-family:arial\;"><span style="color:#222222\;">Please join us for our networking series\, The Morning Edge! This event series encourages connections over coffee and provide our members with a relevant takeaway that supports business. Thank you to our sponsor and hosts\, </span><a href="https://business.abilenechamber.com/list/member/home2-suites-by-hilton-abilene-southwest-11623"><span style="color:#FF0000\;">Home2Suites by Hilton</span></a><span style="color:#222222\;"> and </span><a href="https://business.abilenechamber.com/list/member/towneplace-suites-by-marriott-abilene-southwest-11624"><span style="color:#FF0000\;">Towneplace Suites by Marriott Abilene Southwest</span></a><span style="color:#222222\;">!</span><br />\n<br />\n<span style="color:#FF0000\;"><strong>New to networking? </strong></span><span style="color:#222222\;">We will have a brief exercise\, lead by our member</span><span style="color:#000000\;"> </span><a href="https://kimaustin.us/"><span style="color:#000000\;">Kim Austin with State Farm Insurance</span></a><span style="color:#000000\;">\, to share tips how to work a room and start a conversation with a stranger.&nbsp\;</span><br />\n<br />\nSee y&#39\;all soon!&nbsp\;</span></span><br />\n<br />\n<br />\n<br />\n<span style="font-family: arial\, sans-serif\; font-size: 9.33333px\;">Please note: This event is being photographed and/or videotaped and your image may be used in connection with the advertising and promotion of the Abilene Chamber of Commerce.</span>
LOCATION:Home2 Suites by Hilton NOTE: We will meet in their Conference Center\, a building adjacent to Home2 Suites by Hilton. Our team and signs will be outside to help direct you. CLICK HERE FOR A MAP!
UID:e.3433.5404
SEQUENCE:3
DTSTAMP:20260421T182858Z
URL:https://business.growabilene.com/events/details/06-04-25-the-morning-edge-sponsored-by-home2suite-by-hilton-and-towneplace-suites-by-marriott-abilene-southwest-5404
END:VEVENT

END:VCALENDAR
