BEGIN:VCALENDAR
VERSION:2.0
PRODID:-//ChamberMaster//Event Calendar 2.0//EN
METHOD:PUBLISH
X-PUBLISHED-TTL:P3D
REFRESH-INTERVAL:P3D
CALSCALE:GREGORIAN
BEGIN:VEVENT
DTSTART:20230523T223000Z
DTEND:20230524T000000Z
X-MICROSOFT-CDO-ALLDAYEVENT:FALSE
SUMMARY:05.23.23 AYP After Five sponsored by Abilene Education Foundation
DESCRIPTION:Join us at our May networking event sponsored by Abilene Education Foundation. This event is perfect for young professionals who are new to town\, looking to make new friends\, or wanting to kick back and enjoy conversing with other like-minded individuals. Sip on an old fashioned\, enjoy other beverages from Ben E. Keith and learn how the Abilene Education Foundation impacts our youth at Abilene Independent School District. \n\n\n\nPlease note: This event is being photographed and/or videotaped and your image may be used in connection with the advertising and promotion of the Abilene Chamber of Commerce.
X-ALT-DESC;FMTTYPE=text/html:<div data-block="true" data-editor="idcs" data-offset-key="7ea6n-0-0" style="font-family: Helvetica\, Arial\, sans-serif\; color: rgb(28\, 30\, 33)\; font-size: 12px\; white-space: pre-wrap\; background-color: rgb(255\, 255\, 255)\;">\n<div class="_1mf _1mj" data-offset-key="7ea6n-0-0" style="position: relative\; direction: ltr\; font-family: inherit\;"><span style="font-size:14px\;"><span style="font-family:arial\;"><span style="color: rgb(29\, 33\, 41)\; white-space: pre-wrap\;">Join us at our May networking event sponsored by Abilene Education Foundation. </span></span></span><span style="font-size: 10.5pt\; font-family: Arial\, sans-serif\; color: rgb(29\, 33\, 41)\; background-image: initial\; background-position: initial\; background-size: initial\; background-repeat: initial\; background-attachment: initial\; background-origin: initial\; background-clip: initial\;">This event is perfect for young professionals who are new to town\, looking to make new friends\, or wanting to kick back and enjoy conversing with other like-minded individuals. Sip on an old fashioned\, enjoy other beverages from Ben E. Keith and learn how the Abilene Education Foundation impacts our youth at Abilene Independent School District.&nbsp\;</span><br />\n<br />\n<span style="font-family:arial\;"><span style="box-sizing: border-box\; outline: 0px\;"><span style="box-sizing: border-box\; outline: 0px\; font-size: 9.33333px\;">Please note: This event is being photographed and/or videotaped and your image may be used in connection with the advertising and promotion of the Abilene Chamber of Commerce.</span></span></span></div>\n</div>\n
LOCATION:Belt Buckle Distillery 630 N 5th Street Abilene\, TX 79601
UID:e.3433.4972
SEQUENCE:3
DTSTAMP:20260422T135627Z
URL:https://business.growabilene.com/events/details/05-23-23-ayp-after-five-sponsored-by-abilene-education-foundation-4972
END:VEVENT

END:VCALENDAR
