BEGIN:VCALENDAR
VERSION:2.0
PRODID:-//ChamberMaster//Event Calendar 2.0//EN
METHOD:PUBLISH
X-PUBLISHED-TTL:P3D
REFRESH-INTERVAL:P3D
CALSCALE:GREGORIAN
BEGIN:VEVENT
DTSTART:20240418T220000Z
DTEND:20240418T233000Z
X-MICROSOFT-CDO-ALLDAYEVENT:FALSE
SUMMARY:04.18.2024 Business After Hours Sponsored by Abilene Convention Center - ASM Global
DESCRIPTION:Join us for our monthly evening social business networking event\, sponsored by Abilene Convention Center- ASM Global! This event is extra special too as we will reveal the finalists for this year's Small Business Awards! Click here to see if you or your friends are nominated for this year's awards! \n\n\n\nThis event is open to our sponsor\, their employees and guests\, Chamber members and prospective members. Attendees can expect a short sponsor presentation\, food/beverages\, an update on Chamber activities\, door prizes\, and making plenty of new connections!\n\n\n\nPlease note: This event is being photographed and/or videotaped and your image may be used in connection with the advertising and promotion of the Abilene Chamber of Commerce.
X-ALT-DESC;FMTTYPE=text/html:<span style="font-family:arial\;"><span style="font-size: 14px\;">Join us for our monthly evening social business networking event\, sponsored by Abilene Convention Center- ASM Global! This event is extra special too as we will reveal the finalists for this year&#39\;s Small Business Awards! <strong><a href="https://chambermaster.blob.core.windows.net/userfiles/UserFiles/chambers/3433/File/Small_Business_Awards_Luncheon/2024NomineeList_4.16.24.pdf"><span style="color:#FF0000\;">Click here</span></a><a href="https://chambermaster.blob.core.windows.net/userfiles/UserFiles/chambers/3433/File/Small_Business_Awards_Luncheon/2024-Nominee-List.pdf"><span style="color:#FF0000\;"> </span></a>to see if you or your friends are nominated for this year&#39\;s awards!&nbsp\;</strong><br />\n<br />\nThis event is open to our sponsor\, their employees and guests\, Chamber members and prospective members. Attendees can expect&nbsp\;a short sponsor presentation\, food/beverages\, an update on Chamber activities\, door prizes\, and making plenty of new connections!</span></span><br />\n<br />\n<span style="background-image: initial\; background-position: initial\; background-size: initial\; background-repeat: initial\; background-attachment: initial\; background-origin: initial\; background-clip: initial\;"><span style="font-family: arial\, sans-serif\;"><span style="font-size: 7pt\;">Please note: This event is being photographed and/or videotaped and your image may be used in connection with the advertising and promotion of the Abilene Chamber of Commerce.</span></span></span>
LOCATION:Abilene Convention Center 1100 N 6th St Abilene\, TX 79601
UID:e.3433.5168
SEQUENCE:3
DTSTAMP:20260421T111741Z
URL:https://business.growabilene.com/events/details/04-18-2024-business-after-hours-sponsored-by-abilene-convention-center-asm-global-5168
END:VEVENT

END:VCALENDAR
