BEGIN:VCALENDAR
VERSION:2.0
PRODID:-//ChamberMaster//Event Calendar 2.0//EN
METHOD:PUBLISH
X-PUBLISHED-TTL:P3D
REFRESH-INTERVAL:P3D
CALSCALE:GREGORIAN
BEGIN:VEVENT
DTSTART:20240403T130000Z
DTEND:20240403T140000Z
X-MICROSOFT-CDO-ALLDAYEVENT:FALSE
SUMMARY:04.03.24 The Morning Edge Sponsored by Hendrick Home for Children
DESCRIPTION:Please join us for our new networking series\, The Morning Edge! Formerly known as Wake Up Wednesday\, this event series has been redesigned to allow connections over coffee and provide our members a relevant takeaway that supports business. This event is sponsored by our friends at Hendrick Home for Children.\n\n\n\nThis monthly Chamber networking event is open to our sponsor's employees and guests\, Chamber members and prospective members. Please join us for our new networking series where there will be hot coffee\, breakfast\, Chamber updates\, and door prizes! \nPlease note: This event is being photographed and/or videotaped and your image may be used in connection with the advertising and promotion of the Abilene Chamber of Commerce.
X-ALT-DESC;FMTTYPE=text/html:Please join us for our new networking series\, The Morning Edge! Formerly known as Wake Up Wednesday\, this event series has been redesigned to allow connections over coffee and provide our members a relevant takeaway that supports business. This event is sponsored by our friends at Hendrick Home for Children.<br />\n<br />\nThis monthly Chamber networking event is open to our sponsor&#39\;s employees and guests\, Chamber members and prospective members. Please join us for our new networking series where there will be hot coffee\, breakfast\, Chamber updates\, and door prizes!&nbsp\;\n<p class="xxxmsonormal" style="background-image: initial\; background-position: initial\; background-size: initial\; background-repeat: initial\; background-attachment: initial\; background-origin: initial\; background-clip: initial\;"><span style="font-family: arial\, sans-serif\; font-size: 9.33333px\;">Please note: This event is being photographed and/or videotaped and your image may be used in connection with the advertising and promotion of the Abilene Chamber of Commerce.</span></p>\n
LOCATION:Hendrick Home for Children 2758 Jeanette St. Abilene\, TX 79602
UID:e.3433.5176
SEQUENCE:3
DTSTAMP:20260421T104524Z
URL:https://business.growabilene.com/events/details/04-03-24-the-morning-edge-sponsored-by-hendrick-home-for-children-5176
END:VEVENT

END:VCALENDAR
