BEGIN:VCALENDAR
VERSION:2.0
PRODID:-//ChamberMaster//Event Calendar 2.0//EN
METHOD:PUBLISH
X-PUBLISHED-TTL:P3D
REFRESH-INTERVAL:P3D
CALSCALE:GREGORIAN
BEGIN:VEVENT
DTSTART:20250305T140000Z
DTEND:20250305T150000Z
X-MICROSOFT-CDO-ALLDAYEVENT:FALSE
SUMMARY:03.05.25 The Morning Edge sponsored by Hendrick Health
DESCRIPTION:Please join us for our networking series\, The Morning Edge! This event series encourages connections over coffee and provide our members with a relevant takeaway that supports business. This month is sponsored by Hendrick Health.
X-ALT-DESC;FMTTYPE=text/html:<span style="color: rgb(34\, 34\, 34)\;">Please join us for our networking series\, The Morning Edge! This event series encourages connections over coffee and provide our members with a relevant takeaway that supports business. This month is sponsored by Hendrick Health.</span>
LOCATION:Hendrick Health South Medical Center Women's Center Classroom 6250 US-83\, Abilene\, TX 79606
UID:e.3433.5329
SEQUENCE:3
DTSTAMP:20260421T215253Z
URL:https://business.growabilene.com/events/details/03-05-25-the-morning-edge-sponsored-by-hendrick-health-5329
END:VEVENT

END:VCALENDAR
