BEGIN:VCALENDAR
VERSION:2.0
PRODID:-//ChamberMaster//Event Calendar 2.0//EN
METHOD:PUBLISH
X-PUBLISHED-TTL:P3D
REFRESH-INTERVAL:P3D
CALSCALE:GREGORIAN
BEGIN:VEVENT
DTSTART:20240229T210000Z
DTEND:20240301T000000Z
X-MICROSOFT-CDO-ALLDAYEVENT:FALSE
SUMMARY:02.29.24 Business After Hours Sponsored by Abilene Equipment Center
DESCRIPTION:Grab your boots and join us at the Texas Farm Ranch & Wildlife Expo! Sponsored by Abilene Equipment Center\, this networking event will help us close out the first day of our annual agriculture trade show\, which pulls in over 200 exhibitors and ~2\,000 attendees. This event is open to our sponsor\, Abilene Equipment Center\, their employees / guests\, Chamber members and prospective members. \n\n\n\nJoin us at the "Chamber Saloon" for live entertainment\, provided by 96.1 Q Country and food & beverages provided by Reed Beverages\, Betty Roses\, and Texas Farm Bureau Insurance.\n\n\n\nPlease note: This event is being photographed and/or videotaped and your image may be used in connection with the advertising and promotion of the Abilene Chamber of Commerce.
X-ALT-DESC;FMTTYPE=text/html:<span style="font-family:arial\;">Grab your boots and join us at the Texas Farm Ranch &amp\; Wildlife Expo! Sponsored by Abilene Equipment Center\, this networking event will help us close out the first day of our annual agriculture trade show\,&nbsp\;which pulls in over 200 exhibitors and ~2\,000 attendees. This event is open to our sponsor\, Abilene Equipment Center\, their employees / guests\, Chamber members and prospective members.&nbsp\;<br />\n<br />\nJoin us at the &quot\;Chamber Saloon&quot\; for live entertainment\, provided by 96.1 Q Country and food &amp\; beverages provided by Reed Beverages\, Betty Roses\, and Texas Farm Bureau Insurance.</span><br />\n<br />\n<span style="background-image: initial\; background-position: initial\; background-size: initial\; background-repeat: initial\; background-attachment: initial\; background-origin: initial\; background-clip: initial\;"><span style="font-family: arial\, sans-serif\;"><span style="font-size: 7pt\;">Please note: This event is being photographed and/or videotaped and your image may be used in connection with the advertising and promotion of the Abilene Chamber of Commerce.</span></span></span>
LOCATION:Taylor Telecom Arena 1700 TX-36 Abilene\, TX 79602
UID:e.3433.5186
SEQUENCE:3
DTSTAMP:20260421T210556Z
URL:https://business.growabilene.com/events/details/02-29-24-business-after-hours-sponsored-by-abilene-equipment-center-5186
END:VEVENT

END:VCALENDAR
