BEGIN:VCALENDAR
VERSION:2.0
PRODID:-//ChamberMaster//Event Calendar 2.0//EN
METHOD:PUBLISH
X-PUBLISHED-TTL:P3D
REFRESH-INTERVAL:P3D
CALSCALE:GREGORIAN
BEGIN:VEVENT
DTSTART:20240207T140000Z
DTEND:20240207T150000Z
X-MICROSOFT-CDO-ALLDAYEVENT:FALSE
SUMMARY:02.07.24 The Morning Edge Sponsored by Club Pilates Abilene
DESCRIPTION:Please join us for our our new networking series\, The Morning Edge! This month will be sponsored by our friends at Club Pilates Abilene. Our takeaway\, or "edge"\, is key information about the Corporate Transparency Act that went into effect Jan 1 of 2024 and is relevant to all business entities. \n\n\n\nPlease note: This event is being photographed and/or videotaped and your image may be used in connection with the advertising and promotion of the Abilene Chamber of Commerce.
X-ALT-DESC;FMTTYPE=text/html:Please join us for our our new networking series\, The Morning Edge! This month will be sponsored by our friends at <a href="https://www.clubpilates.com/location/abilene" target="_blank">Club Pilates Abilene</a>. Our takeaway\, or &quot\;edge&quot\;\, is key information about the Corporate Transparency Act that went into effect Jan 1 of 2024 and is relevant to all business entities.&nbsp\;<br />\n<br />\n<span style="font-family: arial\, sans-serif\; font-size: 9.33333px\;">Please note: This event is being photographed and/or videotaped and your image may be used in connection with the advertising and promotion of the Abilene Chamber of Commerce.</span>
LOCATION:Abilene Women's Club 3425 S 14th Street Abilene\, TX 79605
UID:e.3433.5145
SEQUENCE:3
DTSTAMP:20260421T144701Z
URL:https://business.growabilene.com/events/details/02-07-24-the-morning-edge-sponsored-by-club-pilates-abilene-5145
END:VEVENT

END:VCALENDAR
