BEGIN:VCALENDAR
VERSION:2.0
PRODID:-//ChamberMaster//Event Calendar 2.0//EN
METHOD:PUBLISH
X-PUBLISHED-TTL:P3D
REFRESH-INTERVAL:P3D
CALSCALE:GREGORIAN
BEGIN:VEVENT
DTSTART:20240118T230000Z
DTEND:20240119T003000Z
X-MICROSOFT-CDO-ALLDAYEVENT:FALSE
SUMMARY:01.18.2024 Business After Hours Sponsored by Cumulus Broadcasting & Reed Beverage
DESCRIPTION:Join us for our monthly evening social business networking event\, sponsored by Cumulus Broadcasting and Reed Beverage! This event is open to our sponsor\, their employees and guests\, Chamber members and prospective members. Attendees can expect a short sponsor presentation\, food/beverages\, an update on Chamber activities\, door prizes\, and making plenty of new connections!\n\n\n\nPlease note: This event is being photographed and/or videotaped and your image may be used in connection with the advertising and promotion of the Abilene Chamber of Commerce.
X-ALT-DESC;FMTTYPE=text/html:<span style="font-family:arial\;"><span style="font-size: 14px\;">Join us for our monthly evening social business networking event\, sponsored by Cumulus Broadcasting and Reed Beverage! This event is open to our sponsor\, their employees and guests\, Chamber members and prospective members. Attendees can expect&nbsp\;a short sponsor presentation\, food/beverages\, an update on Chamber activities\, door prizes\, and making plenty of new connections!</span></span><br />\n<br />\n<span style="background-image: initial\; background-position: initial\; background-size: initial\; background-repeat: initial\; background-attachment: initial\; background-origin: initial\; background-clip: initial\;"><span style="font-family: arial\, sans-serif\;"><span style="font-size: 7pt\;">Please note: This event is being photographed and/or videotaped and your image may be used in connection with the advertising and promotion of the Abilene Chamber of Commerce.</span></span></span>
LOCATION:Betty Rose's Little Brisket 3934 Catclaw Dr\, Abilene\, TX 79606
UID:e.3433.5167
SEQUENCE:3
DTSTAMP:20260421T163928Z
URL:https://business.growabilene.com/events/details/01-18-2024-business-after-hours-sponsored-by-cumulus-broadcasting-reed-beverage-5167
END:VEVENT

END:VCALENDAR
