BEGIN:VCALENDAR
VERSION:2.0
PRODID:-//ChamberMaster//Event Calendar 2.0//EN
METHOD:PUBLISH
X-PUBLISHED-TTL:P3D
REFRESH-INTERVAL:P3D
CALSCALE:GREGORIAN
BEGIN:VEVENT
DTSTART:20200114T173000Z
DTEND:20200114T190000Z
X-MICROSOFT-CDO-ALLDAYEVENT:FALSE
SUMMARY:01.14.2020 MAC Quarterly Luncheon
DESCRIPTION:
X-ALT-DESC;FMTTYPE=text/html:
LOCATION:Abilene Country Club 4039 S. Treadaway Blvd. Abilene\, TX 79602
UID:e.3433.3819
SEQUENCE:3
DTSTAMP:20260423T151611Z
URL:https://business.growabilene.com/events/details/01-14-2020-mac-quarterly-luncheon-3819
END:VEVENT

END:VCALENDAR
