BEGIN:VCALENDAR
VERSION:2.0
PRODID:-//ChamberMaster//Event Calendar 2.0//EN
METHOD:PUBLISH
X-PUBLISHED-TTL:P3D
REFRESH-INTERVAL:P3D
CALSCALE:GREGORIAN
BEGIN:VEVENT
DTSTART:20240112T173000Z
DTEND:20240112T190000Z
X-MICROSOFT-CDO-ALLDAYEVENT:FALSE
SUMMARY:01.12.24 MAC Quarterly Luncheon
DESCRIPTION:ABOUT OUR SPEAKER: \n\nCol. Justin L. Diehl serves as the Commander of the 317th Operations Group\, Dyess Air Force Base\, Texas.  He commands three squadrons\, 400 Personnel\, and 28 C-130J aircraft engaged in worldwide combat aerial delivery and airland operations.
X-ALT-DESC;FMTTYPE=text/html:ABOUT OUR SPEAKER:&nbsp\;<br />\nCol. Justin L. Diehl serves as the Commander of the 317th Operations Group\, Dyess Air Force Base\, Texas.&nbsp\; He commands three squadrons\, 400 Personnel\, and 28 C-130J aircraft engaged in worldwide combat aerial delivery and airland operations.&nbsp\;
LOCATION:Abilene Country Club\, 4039 S Treadaway\, Abilene\, Texas Second Floor Ballroom
UID:e.3433.5178
SEQUENCE:3
DTSTAMP:20260421T163702Z
URL:https://business.growabilene.com/events/details/01-12-24-mac-quarterly-luncheon-5178
END:VEVENT

END:VCALENDAR
